BEGIN:VCALENDAR
VERSION:2.0
PRODID:icalendar-ruby
CALSCALE:GREGORIAN
METHOD:PUBLISH
BEGIN:VEVENT
DTSTAMP:20260421T035243Z
UID:8-293863@eternalhope179.tithelysetup5.com
DTSTART:20261007T230000Z
DTEND:20261008T000000Z
CLASS:PUBLIC
CREATED:20260420T210912
DESCRIPTION:Come get your soul fed weekly with Eternal Hope of Glory!\nour 
 live link click HERE
LAST-MODIFIED:20260420T210912
LOCATION:Virtual
SUMMARY:Discipleship Training
URL;VALUE=URI:https://eternalhope179.tithelysetup5.com/events/discipleship-
 training/2026-10-07
ATTACH;FILENAME=IMG_6196_Original.jpg;FMTTYPE=image/jpeg:https://dq5pwpg1q8
 ru0.cloudfront.net/2025/11/14/18/30/02/b3fe5c39-1d94-4898-9a0c-eda99a48275
 3/IMG_6196_Original.jpg
END:VEVENT
END:VCALENDAR
