BEGIN:VCALENDAR
VERSION:2.0
PRODID:icalendar-ruby
CALSCALE:GREGORIAN
METHOD:PUBLISH
BEGIN:VEVENT
DTSTAMP:20260421T004456Z
UID:10-293806@eternalhope179.tithelysetup5.com
DTSTART:20260927T120000Z
DTEND:20260927T130000Z
CLASS:PUBLIC
CREATED:20260420T183437
DESCRIPTION:Come join us for our weekly prayer class with our Apostle Hal B
 est. We look forward to you joining us.
LAST-MODIFIED:20260420T183437
LOCATION:Eternal Hope Of Glory 1801 W 12th st. Chester\, Pa 19013
SUMMARY:Sunday Prayer Class
URL;VALUE=URI:https://eternalhope179.tithelysetup5.com/events/sunday-prayer
 -class/2026-09-27
ATTACH;FILENAME=IMG_6196_Original.jpg;FMTTYPE=image/jpeg:https://dq5pwpg1q8
 ru0.cloudfront.net/2026/02/05/19/09/26/38ee2d28-d767-42b8-b008-14b21d21ef1
 1/IMG_6196_Original.jpg
END:VEVENT
END:VCALENDAR
